BEGIN:VCALENDAR
VERSION:2.0
PRODID:-//טיקטליין - ECPv4.6.13//NONSGML v1.0//EN
CALSCALE:GREGORIAN
METHOD:PUBLISH
X-WR-CALNAME:טיקטליין
X-ORIGINAL-URL:https://tickline.co.il
X-WR-CALDESC:Events for טיקטליין
BEGIN:VEVENT
DTSTART;TZID=UTC+0:20210610T203000
DTEND;TZID=UTC+0:20210610T233000
DTSTAMP:20210626T151853
CREATED:20210426T080804Z
LAST-MODIFIED:20210531T120401Z
UID:4488-1623357000-1623367800@tickline.co.il
SUMMARY:שלומי קשור בחוט
DESCRIPTION: \n\n                    \n                    \n                    \n                    \n                    \n                    \n                    iFrameResize({autoResize : true\, checkOrigin : false}\, "iframe.resizableFrame");\n                    \n                \n                \n\n. \n\n
URL:https://tickline.co.il/4488
CATEGORIES:c22
ATTACH;FMTTYPE=image/jpeg:https://tickline.co.il/wp-content/uploads/2021/05/9156ccf383eb0b4bf53f040edc464f3a.jpeg
END:VEVENT
END:VCALENDAR