BEGIN:VCALENDAR
VERSION:2.0
PRODID:-//טיקטליין - ECPv4.6.13//NONSGML v1.0//EN
CALSCALE:GREGORIAN
METHOD:PUBLISH
X-WR-CALNAME:טיקטליין
X-ORIGINAL-URL:https://tickline.co.il
X-WR-CALDESC:Events for טיקטליין
BEGIN:VEVENT
DTSTART;TZID=UTC+0:20191128T210000
DTEND;TZID=UTC+0:20191129T000000
DTSTAMP:20210724T123909
CREATED:20191118T105652Z
LAST-MODIFIED:20191125T080359Z
UID:3384-1574974800-1574985600@tickline.co.il
SUMMARY:מסיבת בנות
DESCRIPTION: \n\n                    \n                    \n                    \n                    \n                    \n                    \n                    iFrameResize({autoResize : true\, checkOrigin : false}\, "iframe.resizableFrame");\n                    \n                \n                \n\nרק רוצות לרקוד – קריאה ראשונה לטסות לחלל עם די. ג'י. דאלי ונועה ירון דיין בחמישי הקרוב בפאשן בר תל אביב. המראה ב21:30 סופי.  \nלכבוד ראש חודש כסליו\, הלא הוא החודש של הכיס\, של הלב\, ושל הניסים והנפלאות\, אנחנו מוכרחות להיפגש לרקוד. \nאי לכך\, סידרנו לכן comfort zone כהילכתו במועדון תל אביבי  שיסגר השבוע באופן חריג לנשים בלבד. \nמחכה לנו צוות נשי מנצח\, מהברמניות עד המאבטחות\, על הרחבה קהל נשי מגוון ואיכותי\, עם סאונד מושלם ומוזיקה טובה. מה עוד צריך תגידו? אה כן\, בר במחירים סבירים\, אנרגיות טובות\, ואזור נוחות שבו כל אחת מכן תוכל להרגיש בבית. \nהמכירה המוקדמת טסה\, מספר המקומות מוגבל\, ומכירה במקום במזומן תתאפשר במידה וישארו כרטיסים. בואו בטוב. Mate love not war. מחכות לכן💘 \n\n\n
URL:https://tickline.co.il/338410563384/%D7%9E%D7%A1%D7%99%D7%91%D7%AA-%D7%91%D7%A0%D7%95%D7%AA
CATEGORIES:c15
ATTACH;FMTTYPE=image/jpeg:https://tickline.co.il/wp-content/uploads/2019/11/4f17f1a03ae5286eadab439950c07425.jpg
END:VEVENT
END:VCALENDAR