BEGIN:VCALENDAR
VERSION:2.0
PRODID:-//טיקטליין - ECPv4.6.13//NONSGML v1.0//EN
CALSCALE:GREGORIAN
METHOD:PUBLISH
X-WR-CALNAME:טיקטליין
X-ORIGINAL-URL:https://tickline.co.il
X-WR-CALDESC:Events for טיקטליין
BEGIN:VEVENT
DTSTART;TZID=UTC+0:20190118T070000
DTEND;TZID=UTC+0:20190119T230000
DTSTAMP:20210704T181959
CREATED:20190102T095111Z
LAST-MODIFIED:20190102T095111Z
UID:1953-1547794800-1547938800@tickline.co.il
SUMMARY:שבת מדרשה באלוני שילה
DESCRIPTION: \n\n                    \n                    \n                    \n                    \n                    \n                    \n                    iFrameResize({autoResize : true\, checkOrigin : false}\, "iframe.resizableFrame");\n                    \n                \n                \n\nבואי\, הפסקה באמצע המירוץ \nלנשום\, להיפגש ולחוות. \nשבת מדרשה באלוני שילה \nבנוף הקסום של השומרון יחד עם מדרשת שילת. \nמחכות לך… צוות המדרשה:) \n\n\n
URL:https://tickline.co.il/%D7%A9%D7%91%D7%AA-%D7%9E%D7%93%D7%A8%D7%A9%D7%94-%D7%91%D7%90%D7%9C%D7%95%D7%A0%D7%99-%D7%A9%D7%99%D7%9C%D7%94
CATEGORIES:c19
ATTACH;FMTTYPE=image/jpeg:https://tickline.co.il/wp-content/uploads/2019/01/964408f51a0444da35537ee25900bd1b.jpg
END:VEVENT
END:VCALENDAR