BEGIN:VCALENDAR
VERSION:2.0
PRODID:-//טיקטליין - ECPv4.6.13//NONSGML v1.0//EN
CALSCALE:GREGORIAN
METHOD:PUBLISH
X-WR-CALNAME:טיקטליין
X-ORIGINAL-URL:https://tickline.co.il
X-WR-CALDESC:Events for טיקטליין
BEGIN:VEVENT
DTSTART;TZID=UTC+0:20191128T193000
DTEND;TZID=UTC+0:20191128T223000
DTSTAMP:20210724T133415
CREATED:20191104T093933Z
LAST-MODIFIED:20191111T100940Z
UID:3308-1574969400-1574980200@tickline.co.il
SUMMARY:מפגש תנועת גוף-נפש לנשים
DESCRIPTION: \n\n                    \n                    \n                    \n                    \n                    \n                    \n                    iFrameResize({autoResize : true\, checkOrigin : false}\, "iframe.resizableFrame");\n                    \n                \n                \n\n * מרחב מכיל ומאפשר להבעה והקשבה לתנועה הטבעית של הגוף  \n* העמקת החיבור לגוף \,לנפש\, לנשמה ולדיאלוג ביניהם \n* הנחייה בליווי מוזיקה מגוונת \nחוויה של שחרור והנאה וחיבור לאור הפנימי שבך! \nמפגש תנועת גוף לנשים עם גילי מורן אמיגה | יום חמישי\, 28/11\, 19:30.כרטיסים: 25 ברכישה מוקדמת\, 30 בערב האירוע. \n\n
URL:https://tickline.co.il/%D7%9E%D7%A4%D7%92%D7%A9-%D7%AA%D7%A0%D7%95%D7%A2%D7%AA-%D7%92%D7%95%D7%A3-%D7%A0%D7%A4%D7%A9-%D7%9C%D7%A0%D7%A9%D7%99%D7%9D
CATEGORIES:c11
ATTACH;FMTTYPE=image/jpeg:https://tickline.co.il/wp-content/uploads/2019/11/3d06e4376e00362b8ae83df75e91f36b.jpeg
END:VEVENT
END:VCALENDAR