BEGIN:VCALENDAR
VERSION:2.0
PRODID:-//טיקטליין - ECPv4.6.13//NONSGML v1.0//EN
CALSCALE:GREGORIAN
METHOD:PUBLISH
X-WR-CALNAME:טיקטליין
X-ORIGINAL-URL:https://tickline.co.il
X-WR-CALDESC:Events for טיקטליין
BEGIN:VEVENT
DTSTART;TZID=UTC+0:20190915T190000
DTEND;TZID=UTC+0:20190915T220000
DTSTAMP:20210730T095827
CREATED:20190902T181615Z
LAST-MODIFIED:20190902T181615Z
UID:3098-1568574000-1568584800@tickline.co.il
SUMMARY:אנסמבל חיבה במופע סליחות במסורת יהודי בבל
DESCRIPTION: \n\n                    \n                    \n                    \n                    \n                    \n                    \n                    iFrameResize({autoResize : true\, checkOrigin : false}\, "iframe.resizableFrame");\n                    \n                \n                \n\nמופע סליחות בנוסח יהודי בבל לקראת הימים הנוראים\, בביצוע אנסמבל נגני חיבה. \n\nראשון | ט"ו באלול | 15.9.19| 19:00 \n30 ש"ח ברכישה מוקדמת | 40 ש"ח בערב האירוע \n\n
URL:https://tickline.co.il/%D7%90%D7%A0%D7%A1%D7%9E%D7%91%D7%9C-%D7%97%D7%99%D7%91%D7%94-%D7%91%D7%9E%D7%95%D7%A4%D7%A2-%D7%A1%D7%9C%D7%99%D7%97%D7%95%D7%AA-%D7%91%D7%9E%D7%A1%D7%95%D7%A8%D7%AA-%D7%99%D7%94%D7%95%D7%93%D7%99
CATEGORIES:c11
ATTACH;FMTTYPE=image/jpeg:https://tickline.co.il/wp-content/uploads/2019/09/cedfab8a21c347ba44a5dff1cd3a4d21.jpg
END:VEVENT
END:VCALENDAR